BEGIN:VCALENDAR
VERSION:2.0
PRODID:-//Swing&#039;house - ECPv6.15.20//NONSGML v1.0//EN
CALSCALE:GREGORIAN
METHOD:PUBLISH
X-ORIGINAL-URL:https://swinghouse.fr
X-WR-CALDESC:Évènements pour Swing&#039;house
REFRESH-INTERVAL;VALUE=DURATION:PT1H
X-Robots-Tag:noindex
X-PUBLISHED-TTL:PT1H
BEGIN:VTIMEZONE
TZID:UTC
BEGIN:STANDARD
TZOFFSETFROM:+0000
TZOFFSETTO:+0000
TZNAME:UTC
DTSTART:20250101T000000
END:STANDARD
END:VTIMEZONE
BEGIN:VEVENT
DTSTART;TZID=UTC:20260308T153000
DTEND;TZID=UTC:20260308T193000
DTSTAMP:20260421T200703
CREATED:20260204T130339Z
LAST-MODIFIED:20260204T131144Z
UID:1481-1772983800-1772998200@swinghouse.fr
SUMMARY:Rock Swing Party Mériel
DESCRIPTION:Ne manquez pas une nouvelle édition de la Rock Swing Party Mériel. Organisée par l’Association Swinghouse\, à Mériel ! \n📅 Date : Dimanche 8 mars 2026\n🕒 Horaire : 15h30\n📍 Lieu : Studio ABRACE\, 4 bis Av. de la Pécherie\, 95630 Mériel \nCe qui vous attend :\n🎧 Animation par les talentueux DJ Domm & Dj Manu\n🎉 Une ambiance dynamique et conviviale.\n5 styles de danse : Balboa\, BeBop\, Blues\, West Coast Swing et Lindy Hop\n📚 Tarif : 10€ sur place \nEnvie de partager ce Rock swing party festif avec vos amis danseurs ? Rejoignez-nous pour une journée inoubliable ! \n📞 Contact : 06 76 63 25 24 | contact.swinghouse@gmail.com \n#RockSwingParty #StudioABRACE #Swinghouse #Danse
URL:https://swinghouse.fr/event/rock-swing-party-meriel
LOCATION:STUDIO ABRACE\, 4 bis avenue de la pêcherie\, meriel\, 95630\, France
CATEGORIES:Après-midi dansant
ATTACH;FMTTYPE=image/png:https://swinghouse.fr/wp-content/uploads/2026/02/DIM-08-03-2025-ROCK-SWING-PARTY.png
ORGANIZER;CN="SWINGHOUSE":MAILTO:contact.swinghouse@gmail.com
END:VEVENT
END:VCALENDAR